BEGIN:VCALENDAR
PRODID:-//eluceo/ical//2.0/EN
VERSION:2.0
CALSCALE:GREGORIAN
BEGIN:VEVENT
UID:8043620ed24f0d08218e84f9d14ad3cf
DTSTAMP:20260420T001232Z
SUMMARY:Zionsville Menorah Lighting
DESCRIPTION:Jewish Federation of Greater Indianapolis\, Inc.\nCommunity Cal
 endar\nhttps://jewishindianapolis.org/jfgicommunitycalendar/zionsville-men
 orah-lighting-1697661760\n\nJoin Chabad for our third annual Zionsville Me
 norah lighting. The light will be ignited on Main Street - but also inside
  of our hearts. This event sparks the warm feelings of Tradition\, communi
 ty and Americanism.
DTSTART;TZID=America/New_York:20231210T170000
DTEND;TZID=America/New_York:20231210T180000
END:VEVENT
END:VCALENDAR
