BEGIN:VCALENDAR
PRODID:-//eluceo/ical//2.0/EN
VERSION:2.0
CALSCALE:GREGORIAN
BEGIN:VEVENT
UID:3e58a29c3be8d105e7244644c70c5655
DTSTAMP:20260419T155314Z
SUMMARY:Youth Mental Health Training\, Skills\, and Resources
DESCRIPTION:Jewish Federation of Greater Indianapolis\, Inc.\nCommunity Cal
 endar\nhttps://jewishindianapolis.org/jfgicommunitycalendar/youth-mental-h
 ealth-training-skills-and-resources-1699904826\n\nYouth Mental Health Trai
 ning\, Skills\, and Resources- for Community Professionals and Staff\n*Lun
 ch will be provided.\n\nThis session is designed for all staff members at 
 Jewish community organizations who engage with youth and youth adults. The
  presentation will give a detailed overview and understanding of youth men
 tal health\, along with tools and resources for staff to better support yo
 ung people and their mental health.\n\nRegister at https://bit.ly/youthmen
 talhealth24.\n\nQuestions? Conta...
DTSTART;TZID=America/New_York:20240215T123000
DTEND;TZID=America/New_York:20240215T143000
END:VEVENT
END:VCALENDAR
