BEGIN:VCALENDAR
PRODID:-//eluceo/ical//2.0/EN
VERSION:2.0
CALSCALE:GREGORIAN
BEGIN:VEVENT
UID:740418d1f2944c5c936cb60a919b9049
DTSTAMP:20260419T140847Z
SUMMARY:Youth and Trauma
DESCRIPTION:Jewish Federation of Greater Indianapolis\, Inc.\nCommunity Cal
 endar\nhttps://jewishindianapolis.org/jfgicommunitycalendar/youth-and-trau
 ma-1699905188\n\nYouth and Trauma – Interactive Session for Community Pr
 ofessionals and Staff\nFriday\, February 16\, 12:30-1:30 pm\nBring your ow
 n lunch. Snacks will be provided.\n\nThis session is designed for all staf
 f members at Jewish community organizations who engage with youth\, young 
 adults\, and their families. In this interactive session\, participants wi
 ll learn and discuss how trauma impacts our youth\, with specific content 
 related to anti-Semitism\, and how we can best intervene and support their
  me...
DTSTART;TZID=America/New_York:20240216T123000
DTEND;TZID=America/New_York:20240216T133000
END:VEVENT
END:VCALENDAR
