BEGIN:VCALENDAR
PRODID:-//eluceo/ical//2.0/EN
VERSION:2.0
CALSCALE:GREGORIAN
BEGIN:VEVENT
UID:90bfb9e9d67b3718e010c765a76ace1c
DTSTAMP:20260423T115739Z
SUMMARY:Young Adult Discussion and Support Virtual Gathering
DESCRIPTION:Jewish Federation of Greater Indianapolis\, Inc.\nCommunity Cal
 endar\nhttps://jewishindianapolis.org/jfgicommunitycalendar/young-adult-di
 scussion-and-support-virtual-gathering-1699904062\n\nYoung Adult Discussio
 n and Support Virtual Gathering - for ages 18-28\n\nIn these challenging t
 imes with the current rise of antisemitism\, get together virtually with y
 our peers and staff from Jewish Family Services for discussion and support
 .\n\nTo allow for discussion\, we will be capping registration at 20.\n\nR
 egister at Young Adult Discussion and Support Virtual Gathering.\n\nQuest
 ions? Contact Julie Sondhelm at (317) 536-1476 or jsondhelm@jfgi.org.
DTSTART;TZID=America/New_York:20231204T173000
DTEND;TZID=America/New_York:20231204T190000
END:VEVENT
END:VCALENDAR
