BEGIN:VCALENDAR
PRODID:-//eluceo/ical//2.0/EN
VERSION:2.0
CALSCALE:GREGORIAN
BEGIN:VEVENT
UID:f30d6fc179e421baf200f7d20ea1b02c
DTSTAMP:20260424T132848Z
SUMMARY:We Refuse to be Enemies
DESCRIPTION:Jewish Federation of Greater Indianapolis\, Inc.\nCommunity Cal
 endar\nhttps://jewishindianapolis.org/jfgicommunitycalendar/we-refuse-to-b
 e-enemies-1703713738\n\nWe Refuse To Be Enemies\n\nTuesday\, February 13th
 \, 7 pm\nLaikin Auditorium\, JCC Indianapolis\nFREE\n\nJoin us for a free 
 community program featuring Sabeeha Rehman and Walter Ruby\, a Muslim woma
 n and Jewish man who have spent decades doing interfaith work and nurturin
 g cooperation among communities.\n\nGrowing up in Pakistan before she immi
 grated to the United States\, Sabeeha never met a Jew\,\nand her view was 
 colored by the Israeli-Palestinian conflict. In his youth\, Walter never m
 et a\nMusl...
DTSTART;TZID=America/New_York:20240213T190000
DTEND;TZID=America/New_York:20240213T203000
END:VEVENT
END:VCALENDAR
