BEGIN:VCALENDAR
PRODID:-//eluceo/ical//2.0/EN
VERSION:2.0
CALSCALE:GREGORIAN
BEGIN:VEVENT
UID:2303e106cebe91e076405697400052c1
DTSTAMP:20260424T185823Z
SUMMARY:We Are Also Jews: An Evening of Food and Dialogue
DESCRIPTION:Jewish Federation of Greater Indianapolis\, Inc.\nCommunity Cal
 endar\nhttps://jewishindianapolis.org/jfgicommunitycalendar/we-are-also-je
 ws-an-evening-of-food-and-dialogue-1682370752\n\nWe are Also Jews: An Even
 ing of Food and Dialogue\nSunday\, June 25\, 2023\n4:00 - 7:00 PM\n\nPrese
 nted by Willaine St.Pierre Sandy\nJoin me as we learn about food tradition
 s of Jews from the Caribbean and Mexico.\n\nIn collaboration with:\nEtz Ch
 aim Sephardic Congregation\nThe Indianapolis Jewish Community Relations Co
 uncil\n\nServing:\nKosher Jerk Chicken\, Rice and Beans\, Plantain\, and D
 essert\n\nRegistration required by June 11\, 2023.\n$18 a ticket/meal\n\nE
 mail: office@etzchaimindy.org\nPay...
DTSTART;TZID=America/New_York:20230625T160000
DTEND;TZID=America/New_York:20230625T190000
END:VEVENT
END:VCALENDAR
