BEGIN:VCALENDAR
PRODID:-//eluceo/ical//2.0/EN
VERSION:2.0
CALSCALE:GREGORIAN
BEGIN:VEVENT
UID:3eba1bd5b57ec4fe0fd7cbc3550d0381
DTSTAMP:20260423T215419Z
SUMMARY:Tisha B'av Evening Study Session with Rabbi Hal
DESCRIPTION:Jewish Federation of Greater Indianapolis\, Inc.\nCommunity Cal
 endar\nhttps://jewishindianapolis.org/jfgicommunitycalendar/tisha-bav-even
 ing-study-session-with-rabbi-hal-1688399234\n\nJoin Rabbi Hal at BEZ for a
  meaningful Tisha B&#39\;av evening study session. Explore the solemnity a
 nd significance of this historical day alongside other members of our comm
 unity. RSVP to Alex Segal at asegal@bez613.org.
DTSTART;TZID=America/New_York:20230726T193000
DTEND;TZID=America/New_York:20230726T210000
END:VEVENT
END:VCALENDAR
