BEGIN:VCALENDAR
PRODID:-//eluceo/ical//2.0/EN
VERSION:2.0
CALSCALE:GREGORIAN
BEGIN:VEVENT
UID:e742679cb134bf9b28da14ff7c254d0e
DTSTAMP:20260421T202046Z
SUMMARY:The Carl Erskine Story w Ted Green
DESCRIPTION:Jewish Federation of Greater Indianapolis\, Inc.\nCommunity Cal
 endar\nhttps://jewishindianapolis.org/jfgicommunitycalendar/the-carl-erski
 ne-story-w-ted-green-1687795557\n\nAnderson’s Carl Erskine\, 95\, is the
  last man standing of the Brooklyn Dodgers’ fabled “Boys of Summer\,
 ” and does he have a story to tell. A story of the Golden Age of Basebal
 l\, playing in five Subway Series\, setting the Series strikeout record\, 
 throwing two no-hitters\, taking Pullmans from town to town with Pee Wee a
 nd Campy and Duke\, pitching the Dodgers’ very first game in Los Angeles
 .\n\nFilm Screening with film maker Ted Green\n\nBut that’s only the beg
 inning. Carl played a se...
DTSTART;TZID=America/New_York:20230907T190000
DTEND;TZID=America/New_York:20230907T211500
END:VEVENT
END:VCALENDAR
