BEGIN:VCALENDAR
PRODID:-//eluceo/ical//2.0/EN
VERSION:2.0
CALSCALE:GREGORIAN
BEGIN:VEVENT
UID:b5ec8b7ce2cb87ae9f9d07a373e727d5
DTSTAMP:20260425T013949Z
SUMMARY:The Art of Redemption
DESCRIPTION:Jewish Federation of Greater Indianapolis\, Inc.\nCommunity Cal
 endar\nhttps://jewishindianapolis.org/jfgicommunitycalendar/the-art-of-red
 emption-1678477759\n\nAn Evening of Art & Wine with Leah Schusterman\n\nA 
 guided tambourine painting experience inspired by the righteous women of t
 he Exodus.\n\nSunday\, March 26\, 2023\nAt 6:45 PM\nEtz Chaim Sephardic Co
 ngregation\nLimited Space | $36 cover | $180 evening sponsor | All donatio
 ns welcome\n\nRSVP to www.injewishdiscovery.org/Art\nFor more information 
 call or text 317-689-6423
DTSTART;TZID=America/New_York:20230326T184500
DTEND;TZID=America/New_York:20230326T204500
END:VEVENT
END:VCALENDAR
