BEGIN:VCALENDAR
PRODID:-//eluceo/ical//2.0/EN
VERSION:2.0
CALSCALE:GREGORIAN
BEGIN:VEVENT
UID:3fc8bf2d92045679cce4fd5cbe54f0ee
DTSTAMP:20260424T114900Z
SUMMARY:State of Antisemitism with ADL Midwest
DESCRIPTION:Jewish Federation of Greater Indianapolis\, Inc.\nCommunity Cal
 endar\nhttps://jewishindianapolis.org/jfgicommunitycalendar/state-of-antis
 emitism-with-adl-midwest-1682347968\n\nIn 2022\, ADL tracked a record 3\,6
 97 incidents of antisemitic harassment\, vandalism and assault in the Unit
 ed States—a shocking 36% increase from 2021. This is the highest number 
 of incidents since ADL began tracking them in 1979 and represents roughly 
 ten incidents a day.\n\nJoin ADL Regional Associate Director Suzanne Rothe
 nberg and JCC CEO Eric Koehler to learn more about this alarming rise in a
 ntisemitism\, what it means for Indianapolis\, and how you can help stand 
 with the Jewish...
DTSTART;TZID=America/New_York:20230601T190000
DTEND;TZID=America/New_York:20230601T201500
END:VEVENT
END:VCALENDAR
