BEGIN:VCALENDAR
PRODID:-//eluceo/ical//2.0/EN
VERSION:2.0
CALSCALE:GREGORIAN
BEGIN:VEVENT
UID:09d6cb21139f5da7208ab126af3385b7
DTSTAMP:20260423T164238Z
SUMMARY:Simcha Shabbat at BEZ
DESCRIPTION:Jewish Federation of Greater Indianapolis\, Inc.\nCommunity Cal
 endar\nhttps://jewishindianapolis.org/jfgicommunitycalendar/simcha-shabbat
 -at-bez-1688398971\n\nJoin us and share your anniversaries\, birthdays\, p
 romotions\, and other remarkable news with our warm and welcoming congrega
 tion. A treat from the treasure chest will add an extra touch of sweetness
  to our simchas!
DTSTART;TZID=America/New_York:20230707T180000
DTEND;TZID=America/New_York:20230707T190000
END:VEVENT
END:VCALENDAR
