BEGIN:VCALENDAR
PRODID:-//eluceo/ical//2.0/EN
VERSION:2.0
CALSCALE:GREGORIAN
BEGIN:VEVENT
UID:f21e564f09a6abcd17ff9799b80f79a6
DTSTAMP:20260423T095959Z
SUMMARY:Shabbat Around NextGen
DESCRIPTION:Jewish Federation of Greater Indianapolis\, Inc.\nCommunity Cal
 endar\nhttps://jewishindianapolis.org/jfgicommunitycalendar/shabbat-around
 -nextgen-1699319840\n\nNextGen hosts another round of Shabbat dinners in h
 osted around the community. Details to follow...
DTSTART;TZID=America/New_York:20240315T190000
DTEND;TZID=America/New_York:20240315T210000
END:VEVENT
END:VCALENDAR
