BEGIN:VCALENDAR
PRODID:-//eluceo/ical//2.0/EN
VERSION:2.0
CALSCALE:GREGORIAN
BEGIN:VEVENT
UID:fa480cdefbe942a057997c095e36346d
DTSTAMP:20260425T111240Z
SUMMARY:Seliḥot
DESCRIPTION:Jewish Federation of Greater Indianapolis\, Inc.\nCommunity Cal
 endar\nhttps://jewishindianapolis.org/jfgicommunitycalendar/seliot-1692724
 561\n\n8 pm at BEZ  |  Dessert reception and musical program\, “A Song i
 s a Heart\,” featuring Anne Slovin\, Soprano.\n9 pm at BEZ  |  Seliḥot
  Service
DTSTART;TZID=America/New_York:20230909T200000
DTEND;TZID=America/New_York:20230909T230000
END:VEVENT
END:VCALENDAR
