BEGIN:VCALENDAR
PRODID:-//eluceo/ical//2.0/EN
VERSION:2.0
CALSCALE:GREGORIAN
BEGIN:VEVENT
UID:a4c99b9342ff187315a454afd53c25dd
DTSTAMP:20260420T170206Z
SUMMARY:Safe Indiana: Situational Awareness and Countering Active Threat Tr
 aining
DESCRIPTION:Jewish Federation of Greater Indianapolis\, Inc.\nCommunity Cal
 endar\nhttps://jewishindianapolis.org/jfgicommunitycalendar/safe-indiana-s
 ituational-awareness-and-countering-active-threat-training\n\nJoin Brad Sw
 im\, Regional Security Advisor for Safe Indiana\, for a comprehensive 90-
 minute training program and learn how to be vigilant\, empowered\, and p
 repared in today&#39\;s threat environment both in the Jewish community an
 d in your daily lives.\n\nContact Brad Swim at bswim@securecommunitynetwo
 rk.org or (872)273-9120 for more information.
DTSTART;TZID=America/New_York:20231129T190000
DTEND;TZID=America/New_York:20231129T203000
END:VEVENT
END:VCALENDAR
