BEGIN:VCALENDAR
PRODID:-//eluceo/ical//2.0/EN
VERSION:2.0
CALSCALE:GREGORIAN
BEGIN:VEVENT
UID:6f9740ba6fd6a2db6b81d64659801df4
DTSTAMP:20260422T175457Z
SUMMARY:Reverse Tashlich
DESCRIPTION:Jewish Federation of Greater Indianapolis\, Inc.\nCommunity Cal
 endar\nhttps://jewishindianapolis.org/jfgicommunitycalendar/reverse-tashli
 ch-1692215470\n\nAdvanced RSVP is requested but not required. Please reach
  out to Brian Hoffman at bhoffman@jfgi.org with any questions\, to get mor
 e information\, or RSVP. Location will be shared upon request.
DTSTART;TZID=America/New_York:20230910T120000
DTEND;TZID=America/New_York:20230910T133000
END:VEVENT
END:VCALENDAR
