BEGIN:VCALENDAR
PRODID:-//eluceo/ical//2.0/EN
VERSION:2.0
CALSCALE:GREGORIAN
BEGIN:VEVENT
UID:42fc20d5c1de5a80821d7ab77b948b89
DTSTAMP:20260424T053352Z
SUMMARY:Religion\, Spirituality\, and the Arts Retrospective Gallery Recept
 ion
DESCRIPTION:Jewish Federation of Greater Indianapolis\, Inc.\nCommunity Cal
 endar\nhttps://jewishindianapolis.org/jfgicommunitycalendar/religion-spiri
 tuality-and-the-arts-retrospective-gallery-reception-1685468526\n\nSince 2
 014\, the Religion\, Spirituality\, and the Arts (RSA) program has brought
  together artists and scholars from diverse backgrounds and fields to focu
 s on the relationship between creativity and religious narratives.\n\nIn t
 his exhibit the RSA artists express their own interpretations through thei
 r arts.\n\nJoin us June 29 to meet the artists\, enjoy the art and have a 
 bite to eat.
DTSTART;TZID=America/New_York:20230629T173000
DTEND;TZID=America/New_York:20230629T190000
END:VEVENT
END:VCALENDAR
