BEGIN:VCALENDAR
PRODID:-//eluceo/ical//2.0/EN
VERSION:2.0
CALSCALE:GREGORIAN
BEGIN:VEVENT
UID:602329bb5537243c7fe5396addc8ead8
DTSTAMP:20260422T150420Z
SUMMARY:Red Cross Blood Drive
DESCRIPTION:Jewish Federation of Greater Indianapolis\, Inc.\nCommunity Cal
 endar\nhttps://jewishindianapolis.org/jfgicommunitycalendar/red-cross-bloo
 d-drive-1691676667\n\nRed Cross Blood Drive taking place in the Laikin Aud
 itorium from 10 am to 3 pm\n\nSign up using the link below:\nhttps://www.r
 edcrossblood.org/give.html/drive-results?zipSponsor=JCCINDY
DTSTART;TZID=America/New_York:20230815T100000
DTEND;TZID=America/New_York:20230815T150000
END:VEVENT
END:VCALENDAR
