BEGIN:VCALENDAR
PRODID:-//eluceo/ical//2.0/EN
VERSION:2.0
CALSCALE:GREGORIAN
BEGIN:VEVENT
UID:c88917d2fa00a54bbb2ed39bcdad176f
DTSTAMP:20260423T031729Z
SUMMARY:Rabbi Sandy RSA Retirement Celebration
DESCRIPTION:Jewish Federation of Greater Indianapolis\, Inc.\nCommunity Cal
 endar\nhttps://jewishindianapolis.org/jfgicommunitycalendar/rabbi-sandy-rs
 a-retirement-celebration-1689609404\n\nHerron School of Art and Design inv
 ites you to a special celebration honoring Rabbi Emerita Sandy Sasso’s l
 eadership and legacy as she retires from the Religion\, Spirituality\, and
  the Arts (RSA) program.\n\nEnjoy a retrospective of work created by RSA p
 rogram participants and meet the past and present visual artists\, poets\,
  and musicians. Live performances will take place throughout the evening.\
 n\nRSVP to Kim Hodges at kshodges@iupui.edu
DTSTART;TZID=America/New_York:20230816T173000
DTEND;TZID=America/New_York:20230816T193000
END:VEVENT
END:VCALENDAR
