BEGIN:VCALENDAR
PRODID:-//eluceo/ical//2.0/EN
VERSION:2.0
CALSCALE:GREGORIAN
BEGIN:VEVENT
UID:39af7413c734cc25c7b408a8da7e7913
DTSTAMP:20260419T193328Z
SUMMARY:Pride Shabbat at BEZ
DESCRIPTION:Jewish Federation of Greater Indianapolis\, Inc.\nCommunity Cal
 endar\nhttps://jewishindianapolis.org/jfgicommunitycalendar/pride-shabbat-
 at-bez-1716480256\n\nJoin us for a special evening as we come together to 
 celebrate Pride Shabbat.
DTSTART;TZID=America/New_York:20240607T180000
DTEND;TZID=America/New_York:20240607T190000
END:VEVENT
END:VCALENDAR
