BEGIN:VCALENDAR
PRODID:-//eluceo/ical//2.0/EN
VERSION:2.0
CALSCALE:GREGORIAN
BEGIN:VEVENT
UID:578645046b38723eca7d149ca59cc58e
DTSTAMP:20260424T140739Z
SUMMARY:Pre Rosh Hashanah Community Challah Bake in Fishers
DESCRIPTION:Jewish Federation of Greater Indianapolis\, Inc.\nCommunity Cal
 endar\nhttps://jewishindianapolis.org/jfgicommunitycalendar/pre-rosh-hasha
 nah-community-challah-bake-in-fishers-1689951309\n\nCome Join the Indiana 
 Jewish Discovery Center and the Jewish Community of Fishers in a Pre Rosh 
 Hashanah Challah Bake. put together the Dough\, entertainment while the do
 ugh rises and bake at home. Sure to be exciting for all ages. Open to all 
 regardless of residence in Fishers
DTSTART;TZID=America/New_York:20230813T133000
DTEND;TZID=America/New_York:20230813T150000
END:VEVENT
END:VCALENDAR
