BEGIN:VCALENDAR
PRODID:-//eluceo/ical//2.0/EN
VERSION:2.0
CALSCALE:GREGORIAN
BEGIN:VEVENT
UID:9c5760ebe7e1ca9be00481552b6a64a9
DTSTAMP:20260423T065211Z
SUMMARY:Popsie's Pantry Volunteer Team Gathering
DESCRIPTION:Jewish Federation of Greater Indianapolis\, Inc.\nCommunity Cal
 endar\nhttps://jewishindianapolis.org/jfgicommunitycalendar/popsies-pantry
 -volunteer-team-gathering-1686674821\n\nDetails pending - this gathering i
 s to honor and celebrate our volunteer team who help with the day-to-day o
 perations of Popsie&#39\;s Pantry
DTSTART;TZID=America/New_York:20230831T190000
DTEND;TZID=America/New_York:20230831T200000
END:VEVENT
END:VCALENDAR
