BEGIN:VCALENDAR
PRODID:-//eluceo/ical//2.0/EN
VERSION:2.0
CALSCALE:GREGORIAN
BEGIN:VEVENT
UID:3b0fd70af8391b8b47f05595b14feace
DTSTAMP:20260425T183446Z
SUMMARY:Politics Update with Pierre Atlas
DESCRIPTION:Jewish Federation of Greater Indianapolis\, Inc.\nCommunity Cal
 endar\nhttps://jewishindianapolis.org/jfgicommunitycalendar/politics-updat
 e-with-pierre-atlas-1669992114\n\nRipped from the headlines! If it’s imp
 ortant political news\, Pierre Atlas will help make sense of it\, and that
 ’s a big task. A monthly opinion columnist for the Indianapolis Business
  Journal\, Atlas is a senior lecturer at IUPUI’s O’Neill School of Pub
 lic and Environmental Affairs\, where he teaches graduate and undergraduat
 e classes including Gun Culture and Policy and Terrorism and Public Policy
 .\n\n$15/$10 JCC Members
DTSTART;TZID=America/New_York:20230330T190000
DTEND;TZID=America/New_York:20230330T203000
END:VEVENT
END:VCALENDAR
