BEGIN:VCALENDAR
PRODID:-//eluceo/ical//2.0/EN
VERSION:2.0
CALSCALE:GREGORIAN
BEGIN:VEVENT
UID:733308365df311048e5d8e92394cf622
DTSTAMP:20260423T065947Z
SUMMARY:PJ Library "Grand-Slam" at Victory Field with the Indianapolis Indi
 ans
DESCRIPTION:Jewish Federation of Greater Indianapolis\, Inc.\nCommunity Cal
 endar\nhttps://jewishindianapolis.org/jfgicommunitycalendar/pj-library-gra
 nd-slam-at-victory-field-with-the-indianapolis-indians-1683919730\n\nJoin 
 PJ Library GRANDPARENTS and PJ Library Families at Victory Field to watch 
 the Indianapolis Indians play! KIDS EAT FREE!\n\nRegister at: https://jfg
 i.regfox.com/pj-library-grand-slam-at-victory-field
DTSTART;TZID=America/New_York:20230709T133000
DTEND;TZID=America/New_York:20230709T160000
END:VEVENT
END:VCALENDAR
