BEGIN:VCALENDAR
PRODID:-//eluceo/ical//2.0/EN
VERSION:2.0
CALSCALE:GREGORIAN
BEGIN:VEVENT
UID:e83ec0a3ea26374a5d93734fdfad095a
DTSTAMP:20260421T214113Z
SUMMARY:PJ Library Goes Apple Picking
DESCRIPTION:Jewish Federation of Greater Indianapolis\, Inc.\nCommunity Cal
 endar\nhttps://jewishindianapolis.org/jfgicommunitycalendar/pj-library-goe
 s-apple-picking-1687445056\n\n
DTSTART;TZID=America/New_York:20230910T140000
DTEND;TZID=America/New_York:20230910T160000
END:VEVENT
END:VCALENDAR
