BEGIN:VCALENDAR
PRODID:-//eluceo/ical//2.0/EN
VERSION:2.0
CALSCALE:GREGORIAN
BEGIN:VEVENT
UID:88999e3d7048719018dd1a9683da62b4
DTSTAMP:20260419T155442Z
SUMMARY:PJ Library and Popsie's Pantry MLK Day of Service
DESCRIPTION:Jewish Federation of Greater Indianapolis\, Inc.\nCommunity Cal
 endar\nhttps://jewishindianapolis.org/jfgicommunitycalendar/pj-library-and
 -popsies-pantry-mlk-day-of-service-1702996763\n\nPJ Library and Popsie&#39
 \;s Pantry MLK Day of Service
DTSTART;TZID=America/New_York:20240115T100000
DTEND;TZID=America/New_York:20240115T110000
END:VEVENT
END:VCALENDAR
