BEGIN:VCALENDAR
PRODID:-//eluceo/ical//2.0/EN
VERSION:2.0
CALSCALE:GREGORIAN
BEGIN:VEVENT
UID:37a836cbd0530145e9dbf8d6f8f98a9b
DTSTAMP:20260420T015509Z
SUMMARY:PJ Library and PJOW Adopt-a-family  Target Takeover!
DESCRIPTION:Jewish Federation of Greater Indianapolis\, Inc.\nCommunity Cal
 endar\nhttps://jewishindianapolis.org/jfgicommunitycalendar/pj-library-and
 -pjow-adopt-a-family--shopathon-1687445391\n\nJoin our PJ Library and PJOW
  Adopt-A-Family teams to support families during the holidays!\nShop early
  or join us Thursday evening at Target for a team shopping experience bef
 ore Adopt-A-Family on November 19th!\n\nRegister for a PJ Library and PJOW
  Adopt-A-Family team at https://jfgi.regfox.com/adopt-a-family-2023
DTSTART;TZID=America/New_York:20231112T150000
DTEND;TZID=America/New_York:20231112T160000
END:VEVENT
END:VCALENDAR
