BEGIN:VCALENDAR
PRODID:-//eluceo/ical//2.0/EN
VERSION:2.0
CALSCALE:GREGORIAN
BEGIN:VEVENT
UID:6e1d518bd686c2aafe198cb52ff8529a
DTSTAMP:20260426T023722Z
SUMMARY:PJ Library and B'nai Torah
DESCRIPTION:Jewish Federation of Greater Indianapolis\, Inc.\nCommunity Cal
 endar\nhttps://jewishindianapolis.org/jfgicommunitycalendar/pj-library-and
 -bnai-torah-1676389628\n\nRegister at: Bit.ly/pjpesach23
DTSTART;TZID=America/New_York:20230323T180000
DTEND;TZID=America/New_York:20230323T193000
END:VEVENT
END:VCALENDAR
