BEGIN:VCALENDAR
PRODID:-//eluceo/ical//2.0/EN
VERSION:2.0
CALSCALE:GREGORIAN
BEGIN:VEVENT
UID:6ed3f29dd0c213e3fc7ed03023eb6bcb
DTSTAMP:20260422T031319Z
SUMMARY:Parent & Toddler Ḥavurah
DESCRIPTION:Jewish Federation of Greater Indianapolis\, Inc.\nCommunity Cal
 endar\nhttps://jewishindianapolis.org/jfgicommunitycalendar/parent--toddle
 r-avurah-1692724470\n\nFamilies with children ages 2-5. Experience Jewish 
 life and learning through songs\, stories and crafts. Led by Maria Simon. 
 RSVP to parenttoddlerhavurah@gmail.com.
DTSTART;TZID=America/New_York:20230910T091500
DTEND;TZID=America/New_York:20230910T111500
END:VEVENT
END:VCALENDAR
