BEGIN:VCALENDAR
PRODID:-//eluceo/ical//2.0/EN
VERSION:2.0
CALSCALE:GREGORIAN
BEGIN:VEVENT
UID:1d43c3862e0419b1f3c816fbc5e9fa18
DTSTAMP:20260422T184509Z
SUMMARY:Painting Rocks for Rosh Hashanah
DESCRIPTION:Jewish Federation of Greater Indianapolis\, Inc.\nCommunity Cal
 endar\nhttps://jewishindianapolis.org/jfgicommunitycalendar/painting-rocks
 -for-rosh-hashanah-1689283332\n\nCongregation Beth-El Zedeck Sisterhood Op
 ening Meeting will feature wine and cheese and paint and rocks. No experie
 nce necessary. RSVP to sisterhoodbez@gmail.com
DTSTART;TZID=America/New_York:20230830T173000
DTEND;TZID=America/New_York:20230830T190000
END:VEVENT
END:VCALENDAR
