BEGIN:VCALENDAR
PRODID:-//eluceo/ical//2.0/EN
VERSION:2.0
CALSCALE:GREGORIAN
BEGIN:VEVENT
UID:31b4269ead9cbcf8466b873c2594d0ec
DTSTAMP:20260424T213204Z
SUMMARY:NEXTGen Fountain Square Walk&Talk with Through2Eyes
DESCRIPTION:Jewish Federation of Greater Indianapolis\, Inc.\nCommunity Cal
 endar\nhttps://jewishindianapolis.org/jfgicommunitycalendar/nextgen-walk-a
 nd-talk-in-fountain-square\n\nFountain Square Walk&Talk with Through2Eyes
  \n6:30 - 8 p.m. starts and ends at Hotel Tango\, 702 Virginia Ave. in Fo
 untain Square\nWalk more than 1.5 miles and learn from a guided expert abo
 ut the history of the area for 90 minutes. Cost is $10/person (subsidized 
 by NextGen). NextGen will hang out after the event at Hotel Tango for anyo
 ne who is interested. Visit https://www.through2eyes.com/ for more informa
 tion about the tour. Register at https://jfgi.regfox.com/fountain-square-
 walktalk-wi...
DTSTART;TZID=America/New_York:20230711T183000
DTEND;TZID=America/New_York:20230711T200000
END:VEVENT
END:VCALENDAR
