BEGIN:VCALENDAR
PRODID:-//eluceo/ical//2.0/EN
VERSION:2.0
CALSCALE:GREGORIAN
BEGIN:VEVENT
UID:ea633f200e79a9a47409abc7189d512c
DTSTAMP:20260421T052528Z
SUMMARY:NEXTGen Light It Up Chanukah Party
DESCRIPTION:Jewish Federation of Greater Indianapolis\, Inc.\nCommunity Cal
 endar\nhttps://jewishindianapolis.org/jfgicommunitycalendar/nextgen-light-
 it-up-chanukah-party\n\nSaturday\, Dec. 16\n8 - 11:30 p.m.\n\n16-BIT Bar+
 Arcade\n110 E New York St.\, Indianapolis\n\nTickets are $18 in advance of
  $20 at the door (cashless)\n\nRegister at https://jfgi.regfox.com/light-
 it-up-2023. Registration includes two drink tickets and light snacks.\n\nC
 ontact Becca Choate at bchoate@jfgi.org or (317) 251-9460 with questions
 .
DTSTART;TZID=America/New_York:20231216T203000
DTEND;TZID=America/New_York:20231216T235500
END:VEVENT
END:VCALENDAR
