BEGIN:VCALENDAR
PRODID:-//eluceo/ical//2.0/EN
VERSION:2.0
CALSCALE:GREGORIAN
BEGIN:VEVENT
UID:1dde2928cb12fab0495fb6a28a2f3cf7
DTSTAMP:20260421T192302Z
SUMMARY:NEXTGen Indians Game
DESCRIPTION:Jewish Federation of Greater Indianapolis\, Inc.\nCommunity Cal
 endar\nhttps://jewishindianapolis.org/jfgicommunitycalendar/nextgen-indian
 s-game\n\n6:35 p.m. as the Indians face the Toledo Mudhens. Join NEXTGen o
 n the lawn and it is Tuesday Dollar menu night!  Tickets are free for up 
 to 50 people. Register at https://jfgi.regfox.com/nextgen-goes-to-the-bal
 lpark.
DTSTART;TZID=America/New_York:20230905T183500
DTEND;TZID=America/New_York:20230905T215000
END:VEVENT
END:VCALENDAR
