BEGIN:VCALENDAR
PRODID:-//eluceo/ical//2.0/EN
VERSION:2.0
CALSCALE:GREGORIAN
BEGIN:VEVENT
UID:f60d009659d5b138ec3d0a2f1d108ae0
DTSTAMP:20260420T002629Z
SUMMARY:NCJW 2024 Scholarship Interviews
DESCRIPTION:Jewish Federation of Greater Indianapolis\, Inc.\nCommunity Cal
 endar\nhttps://jewishindianapolis.org/jfgicommunitycalendar/ncjw-2024-scho
 larship-interviews-1700590166\n\nIn person interviews for pre-selected can
 didates for NCJW scholarships
DTSTART;TZID=America/New_York:20240421T113000
DTEND;TZID=America/New_York:20240421T170000
END:VEVENT
END:VCALENDAR
