BEGIN:VCALENDAR
PRODID:-//eluceo/ical//2.0/EN
VERSION:2.0
CALSCALE:GREGORIAN
BEGIN:VEVENT
UID:45be0018a12b4a5d959e3c837930861d
DTSTAMP:20260424T114903Z
SUMMARY:Monon Mixer Adults Night at the Water Park
DESCRIPTION:Jewish Federation of Greater Indianapolis\, Inc.\nCommunity Cal
 endar\nhttps://jewishindianapolis.org/jfgicommunitycalendar/monon-mixer-ad
 ults-night-at-the-water-park\n\n1235 Central Park Dr. E\, Carmel\, IN 4603
 2\n\nRegister directly with the Monon Center (cost is $20 per person) and 
 look for NEXTGen volunteers in one of the Cabanas. Snacks will be provided
 .\n\nVisit bit.ly/parksreg23 to learn more and to register.
DTSTART;TZID=America/New_York:20230608T200000
DTEND;TZID=America/New_York:20230608T220000
END:VEVENT
END:VCALENDAR
