BEGIN:VCALENDAR
PRODID:-//eluceo/ical//2.0/EN
VERSION:2.0
CALSCALE:GREGORIAN
BEGIN:VEVENT
UID:c4866cbcf563e88acb77dcd1859cb429
DTSTAMP:20260420T001237Z
SUMMARY:Menorah Aflame @Christkindlarkt
DESCRIPTION:Jewish Federation of Greater Indianapolis\, Inc.\nCommunity Cal
 endar\nhttps://jewishindianapolis.org/jfgicommunitycalendar/menorah-aflame
 -christkindlarkt-1697654491\n\nJoin Chabad\, Christkindlmarkt and the enti
 re Jewish community for our annual lighting of our public Menorah. Enjoy l
 ive Jewish tunes\, traditional Chanukah snacks and activities for the whol
 e family!
DTSTART;TZID=America/New_York:20231214T180000
DTEND;TZID=America/New_York:20231214T190000
END:VEVENT
END:VCALENDAR
