BEGIN:VCALENDAR
PRODID:-//eluceo/ical//2.0/EN
VERSION:2.0
CALSCALE:GREGORIAN
BEGIN:VEVENT
UID:42b4e52fe016ee422d0f6040bf26df66
DTSTAMP:20260423T233048Z
SUMMARY:Member & Staff Art Show
DESCRIPTION:Jewish Federation of Greater Indianapolis\, Inc.\nCommunity Cal
 endar\nhttps://jewishindianapolis.org/jfgicommunitycalendar/member--staff-
 art-show-1685469944\n\nAn art gallery featuring the works of JCC staff and
  members. Come enjoy the art and some free food!
DTSTART;TZID=America/New_York:20230824T173000
DTEND;TZID=America/New_York:20230824T190000
END:VEVENT
END:VCALENDAR
