BEGIN:VCALENDAR
PRODID:-//eluceo/ical//2.0/EN
VERSION:2.0
CALSCALE:GREGORIAN
BEGIN:VEVENT
UID:ddd9126a86d6d247e8f7b88e7744372e
DTSTAMP:20260422T101702Z
SUMMARY:Meet Your Mishpocha! NEIJGS Open House
DESCRIPTION:Jewish Federation of Greater Indianapolis\, Inc.\nCommunity Cal
 endar\nhttps://jewishindianapolis.org/jfgicommunitycalendar/meet-your-mish
 pocha-neijgs-open-house-1692244459\n\nThe Northeast Indiana Jewish Genealo
 gy Society (NEIJGS) will be hosting its 5th annual open house\, “Meet Yo
 ur Mishpocha\,” on Sunday\, September 10th from 10:30am-12:30pm at the R
 ifkin Campus\, 5200 Old Mill Road\, in Fort Wayne.\n\nThis year’s presen
 tation “Surprise! I’m Jewish!\,” will feature Greg Shoup who will te
 ll the story of his newfound Jewish roots – how he learned of his herita
 ge through DNA testing. Working with genealogist\, Marlise Gross\, Greg ha
 s been able to trace his ...
DTSTART;TZID=America/New_York:20230910T103000
DTEND;TZID=America/New_York:20230910T123000
END:VEVENT
END:VCALENDAR
