BEGIN:VCALENDAR
PRODID:-//eluceo/ical//2.0/EN
VERSION:2.0
CALSCALE:GREGORIAN
BEGIN:VEVENT
UID:40d118e227ec2de22ce4602db803afde
DTSTAMP:20260422T093857Z
SUMMARY:Mahj Monday
DESCRIPTION:Jewish Federation of Greater Indianapolis\, Inc.\nCommunity Cal
 endar\nhttps://jewishindianapolis.org/jfgicommunitycalendar/mahj-monday-16
 92724349\n\nAll experience levels are welcome! Sisterhood supplies the gam
 es - you bring your game card. No card? We will have extras! The suggested
  donation is $3/day. RSVP to Sue Rosenblum at illinicane@verizon.net.
DTSTART;TZID=America/New_York:20230911T130000
DTEND;TZID=America/New_York:20230911T160000
END:VEVENT
END:VCALENDAR
