BEGIN:VCALENDAR
PRODID:-//eluceo/ical//2.0/EN
VERSION:2.0
CALSCALE:GREGORIAN
BEGIN:VEVENT
UID:8d3f54fcb443ed5a933f39fa864ab2d1
DTSTAMP:20260422T031324Z
SUMMARY:Join Sisterhood for Mahj
DESCRIPTION:Jewish Federation of Greater Indianapolis\, Inc.\nCommunity Cal
 endar\nhttps://jewishindianapolis.org/jfgicommunitycalendar/join-sisterhoo
 d-for-mahj-1695740438\n\nAll experience levels are welcome! Mahjong is a t
 ile-based game that’s been played in Asia for over 300 years and by Amer
 ican Jews since the 1920s. This game is easy to learn but difficult to mas
 ter.  Sisterhood supplies the games - you bring your game card. No card? W
 e will have extras! Suggested donation is $3/day.
DTSTART;TZID=America/New_York:20231001T093000
DTEND;TZID=America/New_York:20231001T120000
END:VEVENT
END:VCALENDAR
