BEGIN:VCALENDAR
PRODID:-//eluceo/ical//2.0/EN
VERSION:2.0
CALSCALE:GREGORIAN
BEGIN:VEVENT
UID:5cc4057611bca15e9588b560ef4e29c0
DTSTAMP:20260425T015346Z
SUMMARY:JFGI Major Donor Dinner
DESCRIPTION:Jewish Federation of Greater Indianapolis\, Inc.\nCommunity Cal
 endar\nhttps://jewishindianapolis.org/jfgicommunitycalendar/jfgi-major-don
 or-dinner\n\n
DTSTART;TZID=America/New_York:20230504T180000
DTEND;TZID=America/New_York:20230504T210000
END:VEVENT
END:VCALENDAR
