BEGIN:VCALENDAR
PRODID:-//eluceo/ical//2.0/EN
VERSION:2.0
CALSCALE:GREGORIAN
BEGIN:VEVENT
UID:c8ae35c5385c4524b15b8e8e5868bc7b
DTSTAMP:20260422T101128Z
SUMMARY:JCRC Board Meeting
DESCRIPTION:Jewish Federation of Greater Indianapolis\, Inc.\nCommunity Cal
 endar\nhttps://jewishindianapolis.org/jfgicommunitycalendar/jcrc-board-mee
 ting-1692130499\n\nJCRC Board Meeting
DTSTART;TZID=America/New_York:20240410T190000
DTEND;TZID=America/New_York:20240410T203000
END:VEVENT
END:VCALENDAR
