BEGIN:VCALENDAR
PRODID:-//eluceo/ical//2.0/EN
VERSION:2.0
CALSCALE:GREGORIAN
BEGIN:VEVENT
UID:cdeeebfa7ebc94718fd6950703f588c7
DTSTAMP:20260419T154159Z
SUMMARY:JCRC Board Meeting
DESCRIPTION:Jewish Federation of Greater Indianapolis\, Inc.\nCommunity Cal
 endar\nhttps://jewishindianapolis.org/jfgicommunitycalendar/jcrc-board-mee
 ting-1692130409\n\nJCRC board meeting
DTSTART;TZID=America/New_York:20240110T190000
DTEND;TZID=America/New_York:20240110T203000
END:VEVENT
END:VCALENDAR
