BEGIN:VCALENDAR
PRODID:-//eluceo/ical//2.0/EN
VERSION:2.0
CALSCALE:GREGORIAN
BEGIN:VEVENT
UID:81adc8a32efd98d0fd55399195df486c
DTSTAMP:20260424T133430Z
SUMMARY:JCRC Board Meeting
DESCRIPTION:Jewish Federation of Greater Indianapolis\, Inc.\nCommunity Cal
 endar\nhttps://jewishindianapolis.org/jfgicommunitycalendar/jcrc-board-mee
 ting-1661538208\n\nJCRC Full Board Meeting
DTSTART;TZID=America/New_York:20230502T190000
DTEND;TZID=America/New_York:20230502T210000
END:VEVENT
END:VCALENDAR
