BEGIN:VCALENDAR
PRODID:-//eluceo/ical//2.0/EN
VERSION:2.0
CALSCALE:GREGORIAN
BEGIN:VEVENT
UID:a0a3f3a977c06cbc5a90b9af98e6a2e3
DTSTAMP:20260422T101706Z
SUMMARY:Jazz at the J: Gina McLaughlin Trio
DESCRIPTION:Jewish Federation of Greater Indianapolis\, Inc.\nCommunity Cal
 endar\nhttps://jewishindianapolis.org/jfgicommunitycalendar/jazz-at-the-j-
 gina-mclaughlin-trio-1691425930\n\n“Close your eyes when you see Gina Mc
 Laughlin perform for the first time\, and you’d be forgiven for experien
 cing the brief but exhilarating sensation of time travel. Is that a little
  Ella? An echo of Nina Simone? Does any vocalist swing and sway so effortl
 essly\, so innately\, so delicately anymore?” Rob Brookman\; Musician\, 
 owner of Lost in America Records\n\nJoin us for a very special evening wit
 h the Gina McLaughlin trio – vocalist Gina McLaughlin\, guitarist Scott 
 Pazera and bassist T...
DTSTART;TZID=America/New_York:20230921T190000
DTEND;TZID=America/New_York:20230921T210000
END:VEVENT
END:VCALENDAR
