BEGIN:VCALENDAR
PRODID:-//eluceo/ical//2.0/EN
VERSION:2.0
CALSCALE:GREGORIAN
BEGIN:VEVENT
UID:12d73bf6a6f05c2557bf72050353b8aa
DTSTAMP:20260419T210815Z
SUMMARY:Israel Around the Table (Young Professional Edition)
DESCRIPTION:Jewish Federation of Greater Indianapolis\, Inc.\nCommunity Cal
 endar\nhttps://jewishindianapolis.org/jfgicommunitycalendar/israel-around-
 the-table-young-professional-edition-1732031896\n\nA dinner and roundtable
  discussion about Israeli society and history for Jewish young professiona
 ls (ages 22-45). Please contact Yaniv Shmukler at yshmukler@indyjcrc.org f
 or more information.
DTSTART;TZID=America/New_York:20250128T190000
DTEND;TZID=America/New_York:20250128T210000
END:VEVENT
END:VCALENDAR
