BEGIN:VCALENDAR
PRODID:-//eluceo/ical//2.0/EN
VERSION:2.0
CALSCALE:GREGORIAN
BEGIN:VEVENT
UID:b2c7b2a1bcc030abe72b5059d0a51f05
DTSTAMP:20260421T033946Z
SUMMARY:Indianapolis Jewish Community Staff Workshop
DESCRIPTION:Jewish Federation of Greater Indianapolis\, Inc.\nCommunity Cal
 endar\nhttps://jewishindianapolis.org/jfgicommunitycalendar/indianapolis-j
 ewish-community-staff-workshop-1667577675\n\nCommunity-wide professional d
 evelopment day for the greater Indianapolis Jewish community.
DTSTART;TZID=America/New_York:20231110T130000
DTEND;TZID=America/New_York:20231110T170000
END:VEVENT
END:VCALENDAR
