BEGIN:VCALENDAR
PRODID:-//eluceo/ical//2.0/EN
VERSION:2.0
CALSCALE:GREGORIAN
BEGIN:VEVENT
UID:bbb15a936389db79c0225e81fda971f5
DTSTAMP:20260422T224859Z
SUMMARY:Indian Jewish Heritage Event with Cantor Aviva Marer
DESCRIPTION:Jewish Federation of Greater Indianapolis\, Inc.\nCommunity Cal
 endar\nhttps://jewishindianapolis.org/jfgicommunitycalendar/indian-jewish-
 heritage-event-with-cantor-aviva-marer-1689603632\n\nLearn about the tradi
 tions of the Indian Jewish community! In partnership with Indianapolis Heb
 rew Congregation (IHC)\, Cantor Aviva Marer will lead a thanks-giving ritu
 al practiced by Indian Jews. This educational demonstration is friendly to
  all ages and will include history and food.\n\nAdmission is free but regi
 stration is appreciated.
DTSTART;TZID=America/New_York:20230820T140000
DTEND;TZID=America/New_York:20230820T160000
END:VEVENT
END:VCALENDAR
