BEGIN:VCALENDAR
PRODID:-//eluceo/ical//2.0/EN
VERSION:2.0
CALSCALE:GREGORIAN
BEGIN:VEVENT
UID:9756651c48cae1f30d5fd6e4412b7535
DTSTAMP:20260424T030049Z
SUMMARY:IHC Sisterhood's Sisters in the Sukkah
DESCRIPTION:Jewish Federation of Greater Indianapolis\, Inc.\nCommunity Cal
 endar\nhttps://jewishindianapolis.org/jfgicommunitycalendar/ihc-sisterhood
 s-sisters-in-the-sukkah-1692544949\n\nOn one our favorite nights of the ye
 ar\, IHC Women and Friends gather inside the Sukkah (weather permitting) f
 or cocktails and Sukkot rituals. We’ll move inside for a delicious veget
 arian fall dinner and program “Celebrating the Fruits of Our Ancestors
 ”.\n\nIn the spirit of ushpizin or welcoming guests\, please invite your
  women friends\, even those who are not IHC members\, to join us for this 
 fun evening.\n\nAll attendees are encouraged to bring a family or favorite
  recipe using fruit to ...
DTSTART;TZID=America/New_York:20231003T183000
DTEND;TZID=America/New_York:20231003T210000
END:VEVENT
END:VCALENDAR
