BEGIN:VCALENDAR
PRODID:-//eluceo/ical//2.0/EN
VERSION:2.0
CALSCALE:GREGORIAN
BEGIN:VEVENT
UID:bbb7b24967c7959d210a5d8da1888937
DTSTAMP:20260424T215454Z
SUMMARY:Housing Advocacy Seder
DESCRIPTION:Jewish Federation of Greater Indianapolis\, Inc.\nCommunity Cal
 endar\nhttps://jewishindianapolis.org/jfgicommunitycalendar/housing-advoca
 cy-seder-1674666415\n\nJoin the community for a seder dedicated to learnin
 g more about Indiana&#39\;s housing affordability and eviction crises.\n\n
 Register at https://indianapolisjcrc.salsalabs.org/advocacyseder
DTSTART;TZID=America/New_York:20230329T170000
DTEND;TZID=America/New_York:20230329T183000
END:VEVENT
END:VCALENDAR
