BEGIN:VCALENDAR
PRODID:-//eluceo/ical//2.0/EN
VERSION:2.0
CALSCALE:GREGORIAN
BEGIN:VEVENT
UID:9a270db37677210c493fda74efb39efb
DTSTAMP:20260421T142312Z
SUMMARY:Hooverwood Luncheon
DESCRIPTION:Jewish Federation of Greater Indianapolis\, Inc.\nCommunity Cal
 endar\nhttps://jewishindianapolis.org/jfgicommunitycalendar/hooverwood-lun
 cheon\n\nHooverwood Luncheon\n\nMore details coming soon!
DTSTART;TZID=America/New_York:20231026T110000
DTEND;TZID=America/New_York:20231026T123000
END:VEVENT
END:VCALENDAR
